BEGIN:VCALENDAR
VERSION:2.0
PRODID:-//Mairie de Beauville - ECPv6.15.20//NONSGML v1.0//EN
CALSCALE:GREGORIAN
METHOD:PUBLISH
X-WR-CALNAME:Mairie de Beauville
X-ORIGINAL-URL:https://mairie-beauville.fr
X-WR-CALDESC:Évènements pour Mairie de Beauville
REFRESH-INTERVAL;VALUE=DURATION:PT1H
X-Robots-Tag:noindex
X-PUBLISHED-TTL:PT1H
BEGIN:VTIMEZONE
TZID:Europe/Paris
BEGIN:DAYLIGHT
TZOFFSETFROM:+0100
TZOFFSETTO:+0200
TZNAME:CEST
DTSTART:20250330T010000
END:DAYLIGHT
BEGIN:STANDARD
TZOFFSETFROM:+0200
TZOFFSETTO:+0100
TZNAME:CET
DTSTART:20251026T010000
END:STANDARD
BEGIN:DAYLIGHT
TZOFFSETFROM:+0100
TZOFFSETTO:+0200
TZNAME:CEST
DTSTART:20260329T010000
END:DAYLIGHT
BEGIN:STANDARD
TZOFFSETFROM:+0200
TZOFFSETTO:+0100
TZNAME:CET
DTSTART:20261025T010000
END:STANDARD
BEGIN:DAYLIGHT
TZOFFSETFROM:+0100
TZOFFSETTO:+0200
TZNAME:CEST
DTSTART:20270328T010000
END:DAYLIGHT
BEGIN:STANDARD
TZOFFSETFROM:+0200
TZOFFSETTO:+0100
TZNAME:CET
DTSTART:20271031T010000
END:STANDARD
END:VTIMEZONE
BEGIN:VEVENT
DTSTART;TZID=Europe/Paris:20260425T090000
DTEND;TZID=Europe/Paris:20260425T150000
DTSTAMP:20260425T124703
CREATED:20260213T110640Z
LAST-MODIFIED:20260404T084818Z
UID:1246-1777107600-1777129200@mairie-beauville.fr
SUMMARY:Randonnée Pédestre
DESCRIPTION:Randonnée pédestre avec un départ depuis le Foyer Rural à 9h ; cette randonnée sera suivie d’un repas « mounjetade ». \nInscriptions au 06.87.93.74.13 avant le 21 Avril. \nNote : cet évènement est réservé aux habitants du village
URL:https://mairie-beauville.fr/evenement/randonnee-pedestre-2/
END:VEVENT
BEGIN:VEVENT
DTSTART;TZID=Europe/Paris:20260425T200000
DTEND;TZID=Europe/Paris:20260426T010000
DTSTAMP:20260425T124703
CREATED:20260214T075947Z
LAST-MODIFIED:20260322T165242Z
UID:1270-1777147200-1777165200@mairie-beauville.fr
SUMMARY:Soirée Années 80
DESCRIPTION:Avec la soirée thématique années 80\, les participants replongeront dans l’ambiance d’une décennie inoubliable ! \n \n 
URL:https://mairie-beauville.fr/evenement/soiree-annees-80/
END:VEVENT
BEGIN:VEVENT
DTSTART;TZID=Europe/Paris:20260530T080000
DTEND;TZID=Europe/Paris:20260531T170000
DTSTAMP:20260425T124703
CREATED:20260223T164223Z
LAST-MODIFIED:20260223T164353Z
UID:1277-1780128000-1780246800@mairie-beauville.fr
SUMMARY:Ball Trap
DESCRIPTION:Ball Trap orgnisé par la Société de Chasse de Beauville. \nPaella le samedi 30 mai à midi et Sanglier à la broche le dimanche 31 mai à midi.
URL:https://mairie-beauville.fr/evenement/ball-trap-3/
END:VEVENT
BEGIN:VEVENT
DTSTART;TZID=Europe/Paris:20260625T190000
DTEND;TZID=Europe/Paris:20260628T233000
DTSTAMP:20260425T124703
CREATED:20260213T110840Z
LAST-MODIFIED:20260213T110840Z
UID:1248-1782414000-1782689400@mairie-beauville.fr
SUMMARY:Fête Locale du Village
DESCRIPTION:Programme détaillé des festivités à venir….
URL:https://mairie-beauville.fr/evenement/fete-locale-du-village/
END:VEVENT
BEGIN:VEVENT
DTSTART;TZID=Europe/Paris:20260805T190000
DTEND;TZID=Europe/Paris:20260805T233000
DTSTAMP:20260425T124703
CREATED:20260213T111311Z
LAST-MODIFIED:20260213T111311Z
UID:1250-1785956400-1785972600@mairie-beauville.fr
SUMMARY:Soirée Repas/Pétanque
DESCRIPTION:Note : cet évènement est réservé aux habitants du village
URL:https://mairie-beauville.fr/evenement/soiree-repas-petanque-5/
END:VEVENT
BEGIN:VEVENT
DTSTART;TZID=Europe/Paris:20260812T190000
DTEND;TZID=Europe/Paris:20260812T233000
DTSTAMP:20260425T124703
CREATED:20260213T111437Z
LAST-MODIFIED:20260213T111437Z
UID:1253-1786561200-1786577400@mairie-beauville.fr
SUMMARY:Soirée Repas/Pétanque
DESCRIPTION:Note : cet évènement est réservé aux habitants du village
URL:https://mairie-beauville.fr/evenement/soiree-repas-petanque-6/
END:VEVENT
BEGIN:VEVENT
DTSTART;TZID=Europe/Paris:20260819T190000
DTEND;TZID=Europe/Paris:20260819T233000
DTSTAMP:20260425T124703
CREATED:20260213T111536Z
LAST-MODIFIED:20260213T111536Z
UID:1255-1787166000-1787182200@mairie-beauville.fr
SUMMARY:Soirée Repas/Pétanque
DESCRIPTION:Note : cet évènement est réservé aux habitants du village
URL:https://mairie-beauville.fr/evenement/soiree-repas-petanque-7/
END:VEVENT
BEGIN:VEVENT
DTSTART;TZID=Europe/Paris:20260826T190000
DTEND;TZID=Europe/Paris:20260826T233000
DTSTAMP:20260425T124703
CREATED:20260213T112555Z
LAST-MODIFIED:20260213T112555Z
UID:1257-1787770800-1787787000@mairie-beauville.fr
SUMMARY:Soirée Repas/Pétanque
DESCRIPTION:Note : cet évènement est réservé aux habitants du village
URL:https://mairie-beauville.fr/evenement/soiree-repas-petanque-8/
END:VEVENT
BEGIN:VEVENT
DTSTART;TZID=Europe/Paris:20260913T080000
DTEND;TZID=Europe/Paris:20260913T170000
DTSTAMP:20260425T124703
CREATED:20260213T113336Z
LAST-MODIFIED:20260213T113336Z
UID:1264-1789286400-1789318800@mairie-beauville.fr
SUMMARY:Vide Grenier
DESCRIPTION:
URL:https://mairie-beauville.fr/evenement/vide-grenier-3/
END:VEVENT
BEGIN:VEVENT
DTSTART;TZID=Europe/Paris:20261127T203000
DTEND;TZID=Europe/Paris:20261127T233000
DTSTAMP:20260425T124703
CREATED:20260213T113503Z
LAST-MODIFIED:20260213T113503Z
UID:1266-1795811400-1795822200@mairie-beauville.fr
SUMMARY:Soirée vin nouveau et châtaignes
DESCRIPTION:Note : cet évènement est réservé aux habitants du village
URL:https://mairie-beauville.fr/evenement/soiree-vin-nouveau-et-chataignes/
END:VEVENT
END:VCALENDAR